BEGIN:VCALENDAR
VERSION:2.0
PRODID:-//British Taekwondo - ECPv6.15.18//NONSGML v1.0//EN
CALSCALE:GREGORIAN
METHOD:PUBLISH
X-ORIGINAL-URL:https://www.britishtaekwondo.org.uk
X-WR-CALDESC:Events for British Taekwondo
REFRESH-INTERVAL;VALUE=DURATION:PT1H
X-Robots-Tag:noindex
X-PUBLISHED-TTL:PT1H
BEGIN:VTIMEZONE
TZID:Europe/London
BEGIN:DAYLIGHT
TZOFFSETFROM:+0000
TZOFFSETTO:+0100
TZNAME:BST
DTSTART:20220327T010000
END:DAYLIGHT
BEGIN:STANDARD
TZOFFSETFROM:+0100
TZOFFSETTO:+0000
TZNAME:GMT
DTSTART:20221030T010000
END:STANDARD
BEGIN:DAYLIGHT
TZOFFSETFROM:+0000
TZOFFSETTO:+0100
TZNAME:BST
DTSTART:20230326T010000
END:DAYLIGHT
BEGIN:STANDARD
TZOFFSETFROM:+0100
TZOFFSETTO:+0000
TZNAME:GMT
DTSTART:20231029T010000
END:STANDARD
BEGIN:DAYLIGHT
TZOFFSETFROM:+0000
TZOFFSETTO:+0100
TZNAME:BST
DTSTART:20240331T010000
END:DAYLIGHT
BEGIN:STANDARD
TZOFFSETFROM:+0100
TZOFFSETTO:+0000
TZNAME:GMT
DTSTART:20241027T010000
END:STANDARD
END:VTIMEZONE
BEGIN:VEVENT
DTSTART;TZID=Europe/London:20231119T083000
DTEND;TZID=Europe/London:20231119T163000
DTSTAMP:20260420T032351
CREATED:20231025T091238Z
LAST-MODIFIED:20231025T091302Z
UID:34363-1700382600-1700411400@www.britishtaekwondo.org.uk
SUMMARY:All Classes British Taekwondo National Poomsae Referee Course: Sunday 19th November - Manchester
DESCRIPTION:The British Taekwondo Poomsae Referee Department will be running an official referee course in Manchester on Sunday 19th November. \nThis All Classes British Taekwondo National Poomsae Referee Courses is suitable for existing referees looking to refresh their knowledge or if they have appropriate experience to progress to the next referee class\, as well as British Taekwondo members who are interested in starting out on their Poomsae refereeing journey. \nTo register for this event please follow the link below: \n\nSunday 19th November – Manchester (National Taekwondo Centre\, Ten Acres Lane Sports Complex)
URL:https://www.britishtaekwondo.org.uk/event/all-classes-british-taekwondo-national-poomsae-referee-course-sunday-19th-november-manchester/
LOCATION:GB Taekwondo National Centre at Ten Acres Lane\, Manchester M40 2SP\, GB Taekwondo National Centre\, Ten Acres Lane\,\, Manchester\, M40 2SP
CATEGORIES:Manchester,Officials and Referees,Poomsae
ATTACH;FMTTYPE=image/webp:https://www.britishtaekwondo.org.uk/wp-content/uploads/2023/10/British-Taekwondo-Poomsae-Referee-Department.webp
END:VEVENT
BEGIN:VEVENT
DTSTART;TZID=Europe/London:20231126T090000
DTEND;TZID=Europe/London:20231126T170000
DTSTAMP:20260420T032351
CREATED:20231115T163443Z
LAST-MODIFIED:20231115T163443Z
UID:34997-1700989200-1701018000@www.britishtaekwondo.org.uk
SUMMARY:Class 3 Judge Course / Refresher Course – London\, Sunday 26th November
DESCRIPTION:The British Taekwondo Sport Referee Department is holding a Class 3 Judge Course / Refresher Course in London on Sunday 26th November. The event is hosted by Kixstar Dragon Taekwondo. \nThe location of the course is the Holiday Inn London – West\, 4 Portal Way\, London W3 6RT. \nThe event is open to all British Taekwondo members and the Sport Referee Department looks forward to welcoming all participants. \nRegistration is at 9am\, with the course running from 9.30am to 5pm. \nRegister to attend the Class 3 Judge Course / Refresher Course here. \nThe course fee is £30. Payment to attend can be made via this Stripe link. \nIf you need any further information\, please do not hesitate to contact Clare Laybourne\, Education & Performance Manager\, Sport Referee Department via education.sportreferees@britishtaekwondo.org
URL:https://www.britishtaekwondo.org.uk/event/class-3-judge-course-refresher-course-london-sunday-26th-november/
LOCATION:Holiday Inn London – West\, 4 Portal Way\, London W3 6RT\, Holiday Inn London - West\,\, London\, W3 6RT
CATEGORIES:Combat Sport,Officials and Referees
ATTACH;FMTTYPE=image/png:https://www.britishtaekwondo.org.uk/wp-content/uploads/2023/11/Class-3-Judge-Course-Refresher-Course-in-London-Sunday-26th-November-1.png
END:VEVENT
END:VCALENDAR