BEGIN:VCALENDAR
VERSION:2.0
PRODID:-//British Taekwondo - ECPv6.15.18//NONSGML v1.0//EN
CALSCALE:GREGORIAN
METHOD:PUBLISH
X-ORIGINAL-URL:https://www.britishtaekwondo.org.uk
X-WR-CALDESC:Events for British Taekwondo
REFRESH-INTERVAL;VALUE=DURATION:PT1H
X-Robots-Tag:noindex
X-PUBLISHED-TTL:PT1H
BEGIN:VTIMEZONE
TZID:Europe/London
BEGIN:DAYLIGHT
TZOFFSETFROM:+0000
TZOFFSETTO:+0100
TZNAME:BST
DTSTART:20210328T010000
END:DAYLIGHT
BEGIN:STANDARD
TZOFFSETFROM:+0100
TZOFFSETTO:+0000
TZNAME:GMT
DTSTART:20211031T010000
END:STANDARD
BEGIN:DAYLIGHT
TZOFFSETFROM:+0000
TZOFFSETTO:+0100
TZNAME:BST
DTSTART:20220327T010000
END:DAYLIGHT
BEGIN:STANDARD
TZOFFSETFROM:+0100
TZOFFSETTO:+0000
TZNAME:GMT
DTSTART:20221030T010000
END:STANDARD
BEGIN:DAYLIGHT
TZOFFSETFROM:+0000
TZOFFSETTO:+0100
TZNAME:BST
DTSTART:20230326T010000
END:DAYLIGHT
BEGIN:STANDARD
TZOFFSETFROM:+0100
TZOFFSETTO:+0000
TZNAME:GMT
DTSTART:20231029T010000
END:STANDARD
BEGIN:DAYLIGHT
TZOFFSETFROM:+0000
TZOFFSETTO:+0100
TZNAME:BST
DTSTART:20240331T010000
END:DAYLIGHT
BEGIN:STANDARD
TZOFFSETFROM:+0100
TZOFFSETTO:+0000
TZNAME:GMT
DTSTART:20241027T010000
END:STANDARD
BEGIN:DAYLIGHT
TZOFFSETFROM:+0000
TZOFFSETTO:+0100
TZNAME:BST
DTSTART:20250330T010000
END:DAYLIGHT
BEGIN:STANDARD
TZOFFSETFROM:+0100
TZOFFSETTO:+0000
TZNAME:GMT
DTSTART:20251026T010000
END:STANDARD
BEGIN:DAYLIGHT
TZOFFSETFROM:+0000
TZOFFSETTO:+0100
TZNAME:BST
DTSTART:20260329T010000
END:DAYLIGHT
BEGIN:STANDARD
TZOFFSETFROM:+0100
TZOFFSETTO:+0000
TZNAME:GMT
DTSTART:20261025T010000
END:STANDARD
BEGIN:DAYLIGHT
TZOFFSETFROM:+0000
TZOFFSETTO:+0100
TZNAME:BST
DTSTART:20270328T010000
END:DAYLIGHT
BEGIN:STANDARD
TZOFFSETFROM:+0100
TZOFFSETTO:+0000
TZNAME:GMT
DTSTART:20271031T010000
END:STANDARD
BEGIN:DAYLIGHT
TZOFFSETFROM:+0000
TZOFFSETTO:+0100
TZNAME:BST
DTSTART:20280326T010000
END:DAYLIGHT
BEGIN:STANDARD
TZOFFSETFROM:+0100
TZOFFSETTO:+0000
TZNAME:GMT
DTSTART:20281029T010000
END:STANDARD
BEGIN:DAYLIGHT
TZOFFSETFROM:+0000
TZOFFSETTO:+0100
TZNAME:BST
DTSTART:20290325T010000
END:DAYLIGHT
BEGIN:STANDARD
TZOFFSETFROM:+0100
TZOFFSETTO:+0000
TZNAME:GMT
DTSTART:20291028T010000
END:STANDARD
BEGIN:DAYLIGHT
TZOFFSETFROM:+0000
TZOFFSETTO:+0100
TZNAME:BST
DTSTART:20300331T010000
END:DAYLIGHT
BEGIN:STANDARD
TZOFFSETFROM:+0100
TZOFFSETTO:+0000
TZNAME:GMT
DTSTART:20301027T010000
END:STANDARD
BEGIN:DAYLIGHT
TZOFFSETFROM:+0000
TZOFFSETTO:+0100
TZNAME:BST
DTSTART:20310330T010000
END:DAYLIGHT
BEGIN:STANDARD
TZOFFSETFROM:+0100
TZOFFSETTO:+0000
TZNAME:GMT
DTSTART:20311026T010000
END:STANDARD
BEGIN:DAYLIGHT
TZOFFSETFROM:+0000
TZOFFSETTO:+0100
TZNAME:BST
DTSTART:20320328T010000
END:DAYLIGHT
BEGIN:STANDARD
TZOFFSETFROM:+0100
TZOFFSETTO:+0000
TZNAME:GMT
DTSTART:20321031T010000
END:STANDARD
END:VTIMEZONE
BEGIN:VEVENT
DTSTART;VALUE=DATE:20220124
DTEND;VALUE=DATE:20310125
DTSTAMP:20260419T183555
CREATED:20240409T104815Z
LAST-MODIFIED:20240409T105847Z
UID:37137-1642982400-1927065599@www.britishtaekwondo.org.uk
SUMMARY:Assistant Coach Award – Course Enrolment Sign-Up
DESCRIPTION:British Taekwondo is aspiring to become a world-leading National Governing Body. To achieve this aim\, we require a top-quality Coach Education Pathway for our coaches\, and the Assistant Coach Award is the first step in this process. \nThe Assistant Coach Award has been created to help all those assisting sessions gain invaluable knowledge and experience\, whilst working alongside their club coach in a class setting as they progress through the award. \nFind out more here.
URL:https://www.britishtaekwondo.org.uk/event/assistant-coach-award-course-enrolment-sign-up/
LOCATION:British Taekwondo\, C/o House of Sport Manchester\, Etihad Campus\, Gate 13\, Rowsley Street\, Manchester\, M11 3FF\, United Kingdom
CATEGORIES:Development,Education
ATTACH;FMTTYPE=image/png:https://www.britishtaekwondo.org.uk/wp-content/uploads/2024/04/British-Taekwondo-Assistant-Coach-Award.png
END:VEVENT
BEGIN:VEVENT
DTSTART;VALUE=DATE:20231103
DTEND;VALUE=DATE:20240909
DTSTAMP:20260419T183555
CREATED:20231109T091327Z
LAST-MODIFIED:20231109T091640Z
UID:34813-1698969600-1725839999@www.britishtaekwondo.org.uk
SUMMARY:Path to Paris virtual journey
DESCRIPTION:The 2024 Olympic and Paralympic Games will take place in Paris. To mark this occasion\, Get Set (the official youth engagement programme from Team GB and ParalympicsGB)\, is on a mission to get children aged 5-11 and their families more active with their new virtual challenge – Path to Paris. Sports clubs\, schools\, community groups and families can set up teams for children to take part – and everyone can join in with the fun alongside them\, completely for free! \nPath to Paris in your Taekwondo club \nKeep children and young people motivated and moving in-between classes! Set challenges for your virtual teams and watch them virtually travel around the world from week to week. The free\, fun activities make a perfect add-on and can bring your group together – and encourage them to get their friends and family involved too. \nGet involved now \nGet involved now\, so you’re ready to begin your journey to Paris! Learn more on the Get Set website here.
URL:https://www.britishtaekwondo.org.uk/event/path-to-paris-virtual-journey/
LOCATION:Paris\, France\, Paris\, France
CATEGORIES:Combat Sport,Manchester,Olympics,Paralympics,World Taekwondo
ATTACH;FMTTYPE=image/webp:https://www.britishtaekwondo.org.uk/wp-content/uploads/2023/10/Path-to-Paris.webp
END:VEVENT
BEGIN:VEVENT
DTSTART;VALUE=DATE:20231127
DTEND;VALUE=DATE:20311128
DTSTAMP:20260419T183555
CREATED:20240409T102700Z
LAST-MODIFIED:20240409T110052Z
UID:37138-1701043200-1953590399@www.britishtaekwondo.org.uk
SUMMARY:Level 2 Certificate in Coaching Taekwondo – Course Enrolment Sign-Up
DESCRIPTION:British Taekwondo is aspiring to become a world-leading National Governing Body. To achieve this aim\, we require a top-quality Coach Education Pathway for our coaches\, and the Level 2 Certificate in Coaching Taekwondo is a very important step in this process. \nThis course has been created to help all those leading or responsible for sessions to gain invaluable knowledge and experience. It is designed to meet all Professional Standards required by the Qualification and Curriculum Framework (Department for Education) and also meets the Coaching Standards developed by CIMSPA. This makes it a robust qualification. \nBefore you sign up\, please read the pre-enrolment information here.
URL:https://www.britishtaekwondo.org.uk/event/level-2-certificate-in-coaching-taekwondo-course-enrolment-sign-up/
LOCATION:British Taekwondo\, C/o House of Sport Manchester\, Etihad Campus\, Gate 13\, Rowsley Street\, Manchester\, M11 3FF\, United Kingdom
CATEGORIES:Development,Education
ATTACH;FMTTYPE=image/webp:https://www.britishtaekwondo.org.uk/wp-content/uploads/2023/09/Level-2-Certificate-in-Coaching-Taekwondo-1.webp
END:VEVENT
BEGIN:VEVENT
DTSTART;VALUE=DATE:20240429
DTEND;VALUE=DATE:20240506
DTSTAMP:20260419T183555
CREATED:20240205T151451Z
LAST-MODIFIED:20240205T151451Z
UID:36178-1714348800-1714953599@www.britishtaekwondo.org.uk
SUMMARY:UK Coaching Week 2024
DESCRIPTION:This year’s celebration is marked by a theme that aims to create lasting impact by igniting thoughtful conversations\, cultivating knowledge\, and inspiring positive change. \nThe theme is “Holistic Coaching: Developing Skills for Life.” \nUK Coaching will be exploring the meaning of holistic coaching and the positive and profound impact it can have. During UK Coaching Week the public and the sport and physical activity community will be encouraged to express their appreciation and gratitude towards coaches by telling us how they\, their friends or their family\, have developed holistically under their care and support.
URL:https://www.britishtaekwondo.org.uk/event/uk-coaching-week-2024/
LOCATION:Hampshire
ATTACH;FMTTYPE=image/webp:https://www.britishtaekwondo.org.uk/wp-content/uploads/2023/08/UK-Coaching.webp
END:VEVENT
BEGIN:VEVENT
DTSTART;TZID=Europe/London:20240502T180000
DTEND;TZID=Europe/London:20240502T190000
DTSTAMP:20260419T183555
CREATED:20240311T164348Z
LAST-MODIFIED:20240311T164348Z
UID:36785-1714672800-1714676400@www.britishtaekwondo.org.uk
SUMMARY:Meet the British Taekwondo Team – Membership Webinar for Lead Instructors: Thursday 2nd May\, 6pm
DESCRIPTION:British Taekwondo’s head office team will be hosting a membership webinar for Lead Instructors. \nWe welcome questions from attendees in advance of the webinar. Please use this form to let us know your questions. \nWe look forward to meeting and speaking with you in the webinar.
URL:https://www.britishtaekwondo.org.uk/event/meet-the-british-taekwondo-team-membership-webinar-for-lead-instructors-thursday-2nd-may-6pm/
LOCATION:Hampshire
CATEGORIES:British Taekwondo Head Office
ATTACH;FMTTYPE=image/png:https://www.britishtaekwondo.org.uk/wp-content/uploads/2024/03/British-Taekwondo-1.png
END:VEVENT
BEGIN:VEVENT
DTSTART;TZID=Europe/London:20240505T100000
DTEND;TZID=Europe/London:20240505T140000
DTSTAMP:20260419T183555
CREATED:20240426T095352Z
LAST-MODIFIED:20240426T095352Z
UID:37511-1714903200-1714917600@www.britishtaekwondo.org.uk
SUMMARY:British Taekwondo Open Poomsae Session – North\, Sunday 5th May
DESCRIPTION:British Taekwondo’s Poomsae Performance Department will be holding an Open Poomsae Session at the GB National Taekwondo Centre\, Ten Acres Lane\, Manchester M40 2SP on Sunday 5th May.
URL:https://www.britishtaekwondo.org.uk/event/british-taekwondo-open-poomsae-session-north-sunday-5th-may/
LOCATION:GB National Taekwondo Centre\, Ten Acres Lane\, Manchester M40 2SP
CATEGORIES:Manchester,Poomsae
ATTACH;FMTTYPE=image/png:https://www.britishtaekwondo.org.uk/wp-content/uploads/2024/04/British-Taekwondo-Poomsae-Performance-Department.png
ORGANIZER;CN="British Taekwondo Poomsae Performance Department":MAILTO:squad.poomsaeperformance@britishtaekwondo.org
END:VEVENT
BEGIN:VEVENT
DTSTART;TZID=Europe/London:20240505T123000
DTEND;TZID=Europe/London:20240505T153000
DTSTAMP:20260419T183555
CREATED:20240426T100143Z
LAST-MODIFIED:20240426T100143Z
UID:37512-1714912200-1714923000@www.britishtaekwondo.org.uk
SUMMARY:British Taekwondo Open Poomsae Session – Northern Ireland\, Sunday 5th May
DESCRIPTION:British Taekwondo’s Poomsae Performance Department will be holding an Open Poomsae Session at Lagan Valley Leisureplex\, 18 Lisburn Leisure Park\, Lisburn BT28 1LP on Sunday 5th May.
URL:https://www.britishtaekwondo.org.uk/event/british-taekwondo-open-poomsae-session-northern-ireland-sunday-5th-may/
LOCATION:Lagan Valley Leisureplex\, 18 Lisburn Leisure Park\, Lisburn BT28 1LP
CATEGORIES:Poomsae
ATTACH;FMTTYPE=image/png:https://www.britishtaekwondo.org.uk/wp-content/uploads/2024/04/British-Taekwondo-Poomsae-Performance-Department.png
ORGANIZER;CN="British Taekwondo Poomsae Performance Department":MAILTO:squad.poomsaeperformance@britishtaekwondo.org
END:VEVENT
BEGIN:VEVENT
DTSTART;TZID=Europe/London:20240512T120000
DTEND;TZID=Europe/London:20240512T150000
DTSTAMP:20260419T183555
CREATED:20240426T115608Z
LAST-MODIFIED:20240426T115608Z
UID:37538-1715515200-1715526000@www.britishtaekwondo.org.uk
SUMMARY:British Taekwondo Open Poomsae Session – Scotland\, Sunday 12th May
DESCRIPTION:British Taekwondo’s Poomsae Performance Department will be holding an Open Poomsae Session at Carronshore Community Centre\, Main Street\, Carronshore\, Falkirk FK2 8EY on Sunday 12th May.
URL:https://www.britishtaekwondo.org.uk/event/british-taekwondo-open-poomsae-session-scotland-sunday-12th-may/
LOCATION:Carronshore Community Centre in Carronshore\, Falkirk\, Scotland
CATEGORIES:Poomsae
ATTACH;FMTTYPE=image/png:https://www.britishtaekwondo.org.uk/wp-content/uploads/2024/04/British-Taekwondo-Poomsae-Performance-Department.png
ORGANIZER;CN="British Taekwondo Poomsae Performance Department":MAILTO:squad.poomsaeperformance@britishtaekwondo.org
END:VEVENT
BEGIN:VEVENT
DTSTART;VALUE=DATE:20240513
DTEND;VALUE=DATE:20240518
DTSTAMP:20260419T183555
CREATED:20231222T152010Z
LAST-MODIFIED:20231222T152010Z
UID:35850-1715558400-1715990399@www.britishtaekwondo.org.uk
SUMMARY:UK Anti-Doping's Clean Sport Week 2024
DESCRIPTION:UK Anti-Doping’s Clean Sport Week returns in 2024. \nUKAD’s Clean Sport Week will take place on the 13th to the 17th May 2024. \nVisit the UK Anti-Doping website for more information.
URL:https://www.britishtaekwondo.org.uk/event/uk-anti-dopings-clean-sport-week-2024/
LOCATION:Hampshire
CATEGORIES:Anti-Doping
ATTACH;FMTTYPE=image/webp:https://www.britishtaekwondo.org.uk/wp-content/uploads/2022/12/UK-Anti-Doping-Clean-Sport-Week-1.webp
END:VEVENT
BEGIN:VEVENT
DTSTART;TZID=Europe/London:20240519T110000
DTEND;TZID=Europe/London:20240519T140000
DTSTAMP:20260419T183555
CREATED:20240426T100146Z
LAST-MODIFIED:20240516T090031Z
UID:37513-1716116400-1716127200@www.britishtaekwondo.org.uk
SUMMARY:British Taekwondo Open Poomsae Session – South\, Sunday 19th May
DESCRIPTION:British Taekwondo’s Poomsae Performance Department will be holding an Open Poomsae Session at Haberdasher Knights Academy\, Launcelot Road\, Bromley BR1 5EB on Sunday 19th May.
URL:https://www.britishtaekwondo.org.uk/event/british-taekwondo-open-poomsae-session-south-sunday-19th-may/
LOCATION:Haberdashers Knights Academy\, Launcelot Road\, Bromley BR1 5EB
CATEGORIES:Poomsae
ATTACH;FMTTYPE=image/png:https://www.britishtaekwondo.org.uk/wp-content/uploads/2024/04/British-Taekwondo-Poomsae-Performance-Department.png
ORGANIZER;CN="British Taekwondo Poomsae Performance Department":MAILTO:squad.poomsaeperformance@britishtaekwondo.org
END:VEVENT
BEGIN:VEVENT
DTSTART;VALUE=DATE:20240520
DTEND;VALUE=DATE:20240521
DTSTAMP:20260419T183555
CREATED:20240411T105039Z
LAST-MODIFIED:20240418T082609Z
UID:37286-1716163200-1716249599@www.britishtaekwondo.org.uk
SUMMARY:100 Days To Go to the Paralympic Games
DESCRIPTION:Paris 2024 will host the Summer Paralympics from Wednesday 28th August to Sunday 8th September. \nThe Para Taekwondo events will take place between Thursday 29th August and Saturday 31st August. \nFind out more on the Paralympics and Paris 2024 websites. \nBritish Taekwondo is the National Governing Body for the Martial Art\, Olympic & Paralympic Sport of Taekwondo. \nVisit our Paris 2024 page for all the details of the events\, and how your British Taekwondo club can get involved. \nAll Great Britain Para Taekwondo athletes are members of British Taekwondo. You can find out more about them and their Taekwondo journeys on the GB Taekwondo website.
URL:https://www.britishtaekwondo.org.uk/event/100-days-to-go-to-the-paralympic-games/
LOCATION:Paris\, France\, Paris\, France
CATEGORIES:Combat Sport,Paralympics
ATTACH;FMTTYPE=image/webp:https://www.britishtaekwondo.org.uk/wp-content/uploads/2023/06/Paris-2024-Summer-Paralympics.webp
END:VEVENT
BEGIN:VEVENT
DTSTART;VALUE=DATE:20240525
DTEND;VALUE=DATE:20240527
DTSTAMP:20260419T183555
CREATED:20240115T141209Z
LAST-MODIFIED:20240115T141209Z
UID:36032-1716595200-1716767999@www.britishtaekwondo.org.uk
SUMMARY:London International Open Poomsae Taekwondo Championships 2024
DESCRIPTION:The 2024 London International Open Poomsae Taekwondo Championships will be taking place at Lee Valley Athletics Centre in London on Saturday 25th and Sunday 26th May. \nThe event is hosted by Next Gen Taekwondo Events. \nRegistration details are to be released soon.
URL:https://www.britishtaekwondo.org.uk/event/london-international-open-poomsae-taekwondo-championships-2024/
LOCATION:Lee Valley Athletics Centre\, 61 Meridan Way \, Edmonton \, N90 AR 
CATEGORIES:Poomsae
ATTACH;FMTTYPE=image/png:https://www.britishtaekwondo.org.uk/wp-content/uploads/2024/01/London-International-Open-Poomsae-Taekwondo-Championships-2024-1.png
END:VEVENT
BEGIN:VEVENT
DTSTART;VALUE=DATE:20240526
DTEND;VALUE=DATE:20240527
DTSTAMP:20260419T183555
CREATED:20240122T155003Z
LAST-MODIFIED:20240122T155003Z
UID:36076-1716681600-1716767999@www.britishtaekwondo.org.uk
SUMMARY:BTS Southern Counties Open 2024
DESCRIPTION:The BTS Southern Counties Open is a Silver level British Taekwondo event. \nThe BTS Southern Counties Open 2024 will take place at Testlands Hub\, Green Lane\, Southampton SO16 9FQ on Sunday 26th May. \nThe event pack can be found here. \nYou can find further information about the event and host club on the BTS website.
URL:https://www.britishtaekwondo.org.uk/event/bts-southern-counties-open-2024/
LOCATION:Testlands Hub  Green Lane  Southampton  SO16 9FQ
CATEGORIES:Combat Sport
ATTACH;FMTTYPE=image/png:https://www.britishtaekwondo.org.uk/wp-content/uploads/2022/12/British-Taekwondo-Schools.png
END:VEVENT
END:VCALENDAR